BEGIN:VCALENDAR
VERSION:2.0
PRODID:-//Самопоміч Нью-Йорк - ECPv6.15.18//NONSGML v1.0//EN
CALSCALE:GREGORIAN
METHOD:PUBLISH
X-ORIGINAL-URL:https://samopomich.org
X-WR-CALDESC:Events for Самопоміч Нью-Йорк
REFRESH-INTERVAL;VALUE=DURATION:PT1H
X-Robots-Tag:noindex
X-PUBLISHED-TTL:PT1H
BEGIN:VTIMEZONE
TZID:America/New_York
BEGIN:DAYLIGHT
TZOFFSETFROM:-0500
TZOFFSETTO:-0400
TZNAME:EDT
DTSTART:20250309T070000
END:DAYLIGHT
BEGIN:STANDARD
TZOFFSETFROM:-0400
TZOFFSETTO:-0500
TZNAME:EST
DTSTART:20251102T060000
END:STANDARD
BEGIN:DAYLIGHT
TZOFFSETFROM:-0500
TZOFFSETTO:-0400
TZNAME:EDT
DTSTART:20260308T070000
END:DAYLIGHT
BEGIN:STANDARD
TZOFFSETFROM:-0400
TZOFFSETTO:-0500
TZNAME:EST
DTSTART:20261101T060000
END:STANDARD
BEGIN:DAYLIGHT
TZOFFSETFROM:-0500
TZOFFSETTO:-0400
TZNAME:EDT
DTSTART:20270314T070000
END:DAYLIGHT
BEGIN:STANDARD
TZOFFSETFROM:-0400
TZOFFSETTO:-0500
TZNAME:EST
DTSTART:20271107T060000
END:STANDARD
END:VTIMEZONE
BEGIN:VEVENT
DTSTART;TZID=America/New_York:20260509T180000
DTEND;TZID=America/New_York:20260509T213000
DTSTAMP:20260425T081746
CREATED:20260325T191207Z
LAST-MODIFIED:20260325T193837Z
UID:1267-1778349600-1778362200@samopomich.org
SUMMARY:Через океани: Об'єднані на підтримку Києво-Могилянської Академії
DESCRIPTION:Приєднуйтесь до інвестування в освіту\, стійкість та майбутнє України. \nПриєднайтесь до захопливого живого заходу\, де ми об’єднаємося через океани\, щоб підтримати неймовірну спільноту Києво-Могилянської академії! Це чудова можливість зустрітися з іншими прихильниками\, дізнатися більше про місію академії та продемонструвати свою солідарність. Не пропустіть цю дивовижну зустріч\, сповнену енергії та гарного настрою. Давайте об’єднаємося та разом змінимо світ на краще!
URL:https://samopomich.org/event/%d1%87%d0%b5%d1%80%d0%b5%d0%b7-%d0%be%d0%ba%d0%b5%d0%b0%d0%bd%d0%b8-%d0%be%d0%b1%d1%94%d0%b4%d0%bd%d0%b0%d0%bd%d1%96-%d0%bd%d0%b0-%d0%bf%d1%96%d0%b4%d1%82%d1%80%d0%b8%d0%bc%d0%ba%d1%83-%d0%ba%d0%b8/
LOCATION:Ukrainian Institute of America\, 2 E 79th Street\, New York\, NY\, 10075\, United States
CATEGORIES:Освіта
ATTACH;FMTTYPE=image/webp:https://samopomich.org/wp-content/uploads/2026/03/image.webp
END:VEVENT
BEGIN:VEVENT
DTSTART;TZID=America/New_York:20260516T180000
DTEND;TZID=America/New_York:20260518T200000
DTSTAMP:20260425T081746
CREATED:20260325T192018Z
LAST-MODIFIED:20260325T193423Z
UID:1271-1778954400-1779134400@samopomich.org
SUMMARY:59-ий Український Фестиваль при церкві Св. Юра
DESCRIPTION:Щорічний український фестиваль\, організований Українською католицькою церквою Святого Юрія. Це фестиваль української культури та їжі в Іст-Віллідж.
URL:https://samopomich.org/event/59-%d0%b8%d0%b9-%d1%83%d0%ba%d1%80%d0%b0%d1%97%d0%bd%d1%81%d1%8c%d0%ba%d0%b8%d0%b9-%d1%84%d0%b5%d1%81%d1%82%d0%b8%d0%b2%d0%b0%d0%bb%d1%8c-%d0%bf%d1%80%d0%b8-%d1%86%d0%b5%d1%80%d0%ba%d0%b2%d1%96-%d1%81/
LOCATION:St. George Ukrainian Catholic Church\, 30 E 7th St\, New York\, NY\, 10003\, United States
CATEGORIES:Фестиваль
ATTACH;FMTTYPE=image/jpeg:https://samopomich.org/wp-content/uploads/2026/03/494672577_1022421016645827_6540851572543174195_n.jpg
ORGANIZER;CN="St. George Ukrainian Catholic Church":MAILTO:osbmnyc@gmail.com
END:VEVENT
END:VCALENDAR