BEGIN:VCALENDAR
VERSION:2.0
PRODID:-//Самопоміч Нью-Йорк - ECPv6.15.18//NONSGML v1.0//EN
CALSCALE:GREGORIAN
METHOD:PUBLISH
X-WR-CALNAME:Самопоміч Нью-Йорк
X-ORIGINAL-URL:https://samopomich.org
X-WR-CALDESC:Events for Самопоміч Нью-Йорк
REFRESH-INTERVAL;VALUE=DURATION:PT1H
X-Robots-Tag:noindex
X-PUBLISHED-TTL:PT1H
BEGIN:VTIMEZONE
TZID:America/New_York
BEGIN:DAYLIGHT
TZOFFSETFROM:-0500
TZOFFSETTO:-0400
TZNAME:EDT
DTSTART:20250309T070000
END:DAYLIGHT
BEGIN:STANDARD
TZOFFSETFROM:-0400
TZOFFSETTO:-0500
TZNAME:EST
DTSTART:20251102T060000
END:STANDARD
BEGIN:DAYLIGHT
TZOFFSETFROM:-0500
TZOFFSETTO:-0400
TZNAME:EDT
DTSTART:20260308T070000
END:DAYLIGHT
BEGIN:STANDARD
TZOFFSETFROM:-0400
TZOFFSETTO:-0500
TZNAME:EST
DTSTART:20261101T060000
END:STANDARD
BEGIN:DAYLIGHT
TZOFFSETFROM:-0500
TZOFFSETTO:-0400
TZNAME:EDT
DTSTART:20270314T070000
END:DAYLIGHT
BEGIN:STANDARD
TZOFFSETFROM:-0400
TZOFFSETTO:-0500
TZNAME:EST
DTSTART:20271107T060000
END:STANDARD
END:VTIMEZONE
BEGIN:VTIMEZONE
TZID:America/Detroit
BEGIN:DAYLIGHT
TZOFFSETFROM:-0500
TZOFFSETTO:-0400
TZNAME:EDT
DTSTART:20250309T070000
END:DAYLIGHT
BEGIN:STANDARD
TZOFFSETFROM:-0400
TZOFFSETTO:-0500
TZNAME:EST
DTSTART:20251102T060000
END:STANDARD
BEGIN:DAYLIGHT
TZOFFSETFROM:-0500
TZOFFSETTO:-0400
TZNAME:EDT
DTSTART:20260308T070000
END:DAYLIGHT
BEGIN:STANDARD
TZOFFSETFROM:-0400
TZOFFSETTO:-0500
TZNAME:EST
DTSTART:20261101T060000
END:STANDARD
BEGIN:DAYLIGHT
TZOFFSETFROM:-0500
TZOFFSETTO:-0400
TZNAME:EDT
DTSTART:20270314T070000
END:DAYLIGHT
BEGIN:STANDARD
TZOFFSETFROM:-0400
TZOFFSETTO:-0500
TZNAME:EST
DTSTART:20271107T060000
END:STANDARD
END:VTIMEZONE
BEGIN:VEVENT
DTSTART;TZID=America/New_York:20260224T190000
DTEND;TZID=America/New_York:20260224T203000
DTSTAMP:20260425T093824
CREATED:20260305T164915Z
LAST-MODIFIED:20260306T203208Z
UID:426-1771959600-1771965000@samopomich.org
SUMMARY:24 лютого в Українському національному домі в Нью-Йорку відбудеться благодійна подія ZEMLIA [soil]
DESCRIPTION:24 лютого в Українському національному домі в Нью-Йорку відбудеться благодійна подія ZEMLIA [soil] — Перформанс Пам’яті та Вшанування\, присвячена річниці повномасштабного вторгнення в Україну. \nПодія створена креативною платформою Rebirth.Ukraine спільно з благодійним фондом Liberty Ukraine Foundation. Її мета — вшанувати полеглих\, підтримати живих та відчути глибокий зв’язок із нашим корінням. \nПерформанс проходитиме у спільному просторі без традиційної сцени. Підлога буде вкрита справжньою землею — як символом пам’яті\, втрати й стійкості. Рух\, дихання\, голос і живий звук сформують послідовність хореографічних актів\, присвячених пам’яті та пережитому досвіду війни. \nСеред учасників події: Фіма Чупахін\, Валерія Вовк\, Ганна Дацько\, Марк’ян Криса\, хори «Думка» та «Молода Думка»\, Михайло Менделенко\, Ілля Осадчук\, Петро Ніновський та інші митці. \n  \nЦілі події:\n  \n  \n\nстворити простір пам’яті у річницю повномасштабної війни;\nвшанувати полеглих та підтримати живих;\nзібрати кошти на підтримку України.\n\n  \nУсі кошти\, зібрані цього вечора\, будуть спрямовані на закупівлю евакуаційних автомобілів для українських захисників. \n  \nДеталі події:\n  \n 24 лютого \n Ukrainian National Home\, 140 2nd Ave\, New York\, NY 10003 \n Відкриття дверей — 19:00 \n Початок перформансу — 20:00 \nГостям будуть запропоновані вино\, коктейлі та легкі частування. Кількість місць обмежена. \nZEMLIA [soil] — це простір тиші та стійкості\, де пам’ять перетворюється на дію\, а присутність — на підтримку.
URL:https://samopomich.org/event/24-%d0%bb%d1%8e%d1%82%d0%be%d0%b3%d0%be-%d0%b2-%d1%83%d0%ba%d1%80%d0%b0%d1%97%d0%bd%d1%81%d1%8c%d0%ba%d0%be%d0%bc%d1%83-%d0%bd%d0%b0%d1%86%d1%96%d0%be%d0%bd%d0%b0%d0%bb%d1%8c%d0%bd%d0%be%d0%bc%d1%83/
LOCATION:NY
END:VEVENT
BEGIN:VEVENT
DTSTART;TZID=America/Detroit:20260224T190000
DTEND;TZID=America/Detroit:20260224T210000
DTSTAMP:20260425T093824
CREATED:20260223T191617Z
LAST-MODIFIED:20260223T191617Z
UID:404-1771959600-1771966800@samopomich.org
SUMMARY:ZEMLIA [soil] - Перформанс Памʼяті та Вшанування
DESCRIPTION:A Charity Evening of Remembrance on the Anniversary of the Full-Scale Invasion of Ukraine.ZEMLIA [soil] is a charity event created by Rebirth.Ukraine in collaboration with Liberty Ukraine Foundation\, to honor the fallen\, support the living\, and reconnect with our roots.\nThe performance unfolds in a shared space without a traditional stage. Real soil covers the floor.\nMovement\, breath\, voice\, and live sound shape a sequence of choreographic acts dedicated to remembrance and loss.\nFeatured Performers:\nFima Chupakhin\, Valeriia Vovk\, Hanna Datsko\, Markiian Krysa\, The Ukrainian Chorus “Dumka” & “Moloda Dumka”\, Misha Mendelenko\, Ilya Osachuk\, Petro Ninovskyi\, and others.\nOur goals:\nTo create a space of remembrance on the anniversary of the full-scale invasion.To honor the fallen.To strengthen the living.To raise funds in support of Ukraine.\n* All proceeds from this evening will go toward life-saving Evacuation Vehicles for Ukrainian defenders.\n\n\nEvent Details:\n Tuesday\, February 24\n Ukrainian National Home — 140 2nd Ave New York\, NY 10003\n Doors open: 7:00 PM | Performance starts: 8:00 PM\n Wine & cocktails with light refreshments will be available\n Limited capacity\n\n\nUKR:\nZEMLIA [soil] – Перформанс Памʼяті та Вшанування\nУ річницю повномасштабного вторгнення ми запрошуємо вас у простір тиші та стійкості.\nZEMLIA [soil] – це благодійна подія\, створена креативною платформою Rebirth.Ukraine та благодійним фондом Liberty Ukraine Foundation\, щоб вшанувати полеглих\, підтримати живих і відчути зв’язок із нашим корінням.\nПерформанс відбуватиметься у спільному просторі без традиційної сцени. Підлога вкрита справжньою землею.\nРух\, дихання\, голос і живий звук формують послідовність хореографічних актів\, присвячених памʼяті та втраті.\nФіма Чупахін\, Валерія Вовк\, Ганна Дацько\, Марк’ян Криса\, Хор Думка та Молода Думка\, Михайло Менделенко\, Ілля Осачук\, Петро Ніновський та інші.\nНаші цілі:\nСтворити простір пам’яті у річницю повномасштабної війни.Вшанувати полеглих.Підтримати живих.Зібрати кошти на підтримку України.* Усі кошти\, зібрані цього вечора\, підуть на закупівлю Евакуаційних автівок для українських захисників.
URL:https://samopomich.org/event/zemlia-soil-%d0%bf%d0%b5%d1%80%d1%84%d0%be%d1%80%d0%bc%d0%b0%d0%bd%d1%81-%d0%bf%d0%b0%d0%bc%ca%bc%d1%8f%d1%82%d1%96-%d1%82%d0%b0-%d0%b2%d1%88%d0%b0%d0%bd%d1%83%d0%b2%d0%b0%d0%bd%d0%bd%d1%8f/
LOCATION:NY
CATEGORIES:Фондрейзинг
ATTACH;FMTTYPE=image/jpeg:https://samopomich.org/wp-content/uploads/2026/02/635479886_953715557318613_7197143129724033372_n.jpg
END:VEVENT
END:VCALENDAR