BEGIN:VCALENDAR
VERSION:2.0
PRODID:-//Самопоміч Нью-Йорк - ECPv6.15.18//NONSGML v1.0//EN
CALSCALE:GREGORIAN
METHOD:PUBLISH
X-ORIGINAL-URL:https://samopomich.org
X-WR-CALDESC:Events for Самопоміч Нью-Йорк
REFRESH-INTERVAL;VALUE=DURATION:PT1H
X-Robots-Tag:noindex
X-PUBLISHED-TTL:PT1H
BEGIN:VTIMEZONE
TZID:America/Detroit
BEGIN:DAYLIGHT
TZOFFSETFROM:-0500
TZOFFSETTO:-0400
TZNAME:EDT
DTSTART:20250309T070000
END:DAYLIGHT
BEGIN:STANDARD
TZOFFSETFROM:-0400
TZOFFSETTO:-0500
TZNAME:EST
DTSTART:20251102T060000
END:STANDARD
BEGIN:DAYLIGHT
TZOFFSETFROM:-0500
TZOFFSETTO:-0400
TZNAME:EDT
DTSTART:20260308T070000
END:DAYLIGHT
BEGIN:STANDARD
TZOFFSETFROM:-0400
TZOFFSETTO:-0500
TZNAME:EST
DTSTART:20261101T060000
END:STANDARD
BEGIN:DAYLIGHT
TZOFFSETFROM:-0500
TZOFFSETTO:-0400
TZNAME:EDT
DTSTART:20270314T070000
END:DAYLIGHT
BEGIN:STANDARD
TZOFFSETFROM:-0400
TZOFFSETTO:-0500
TZNAME:EST
DTSTART:20271107T060000
END:STANDARD
END:VTIMEZONE
BEGIN:VTIMEZONE
TZID:America/New_York
BEGIN:DAYLIGHT
TZOFFSETFROM:-0500
TZOFFSETTO:-0400
TZNAME:EDT
DTSTART:20250309T070000
END:DAYLIGHT
BEGIN:STANDARD
TZOFFSETFROM:-0400
TZOFFSETTO:-0500
TZNAME:EST
DTSTART:20251102T060000
END:STANDARD
BEGIN:DAYLIGHT
TZOFFSETFROM:-0500
TZOFFSETTO:-0400
TZNAME:EDT
DTSTART:20260308T070000
END:DAYLIGHT
BEGIN:STANDARD
TZOFFSETFROM:-0400
TZOFFSETTO:-0500
TZNAME:EST
DTSTART:20261101T060000
END:STANDARD
BEGIN:DAYLIGHT
TZOFFSETFROM:-0500
TZOFFSETTO:-0400
TZNAME:EDT
DTSTART:20270314T070000
END:DAYLIGHT
BEGIN:STANDARD
TZOFFSETFROM:-0400
TZOFFSETTO:-0500
TZNAME:EST
DTSTART:20271107T060000
END:STANDARD
END:VTIMEZONE
BEGIN:VEVENT
DTSTART;TZID=America/Detroit:20260301T140000
DTEND;TZID=America/Detroit:20260301T170000
DTSTAMP:20260425T123209
CREATED:20260223T140717Z
LAST-MODIFIED:20260224T011416Z
UID:384-1772373600-1772384400@samopomich.org
SUMMARY:Соломія Крушельницька ( до 25 річниця 125-го відділу СУА)
DESCRIPTION:Цієї весни 125-й Відділ Союзу Українок Америки відзначає 25-річчя своєї діяльності – чверть століття невтомної праці задля української громади\, збереження нашої культури\, підтримки України та розвитку освіти й мистецтва.\nЗ нагоди цього ювілею 125-й Відділ СУА щиро запрошує громаду на Мистецьку програму\, присвячену життю і творчій спадщині Соломії Крушельницької – видатної української оперної діви\, чий голос назавжди увійшов до історії світового мистецтва.\nМи відкриємо для гостей світ високого мистецтва\, емоцій і глибини людських почуттів – світ\, у якому вічний голос опери промовляє любов’ю до України.\nЦе – більше\, ніж концерт.�Це вшанування ролі жінки\, культурної тяглості та відданості громаді.�Це – мить для роздумів і для спільного святкування.\nЩиро запрошуємо вас разом із нами відзначити 25 років служіння та праці й ушанувати спадщину\, яка продовжує надихати.\n Маємо честь вітати особливих гостей\, які допоможуть створити незабутню атмосферу цього вечора – подію\, яку просто неможливо пропустити. Слідкуйте за оновленнями! \n Український Народний Дім� Неділя\, 1 березня� о 14:00� Вхідний внесок – $40
URL:https://samopomich.org/event/%d1%81%d0%be%d0%bb%d0%be%d0%bc%d1%96%d1%8f-%d0%ba%d1%80%d1%83%d1%88%d0%b5%d0%bb%d1%8c%d0%bd%d0%b8%d1%86%d1%8c%d0%ba%d0%b0-%d0%b4%d0%be-25-%d1%80%d1%96%d1%87%d0%bd%d0%b8%d1%86%d1%8f-125-%d0%b3%d0%be/
LOCATION:Український Народний Дім\, 140 Second Avenue\, New York\, New York\, 10003\, United States
CATEGORIES:Спадшина
ATTACH;FMTTYPE=image/jpeg:https://samopomich.org/wp-content/uploads/2026/02/622833543_964961326217104_5808762510176980651_n.jpg
END:VEVENT
BEGIN:VEVENT
DTSTART;TZID=America/New_York:20260315T130000
DTEND;TZID=America/New_York:20260315T160000
DTSTAMP:20260425T123209
CREATED:20260312T180727Z
LAST-MODIFIED:20260312T181005Z
UID:1069-1773579600-1773590400@samopomich.org
SUMMARY:Pysanky with Larysanky
DESCRIPTION:Запрошуємо учасників на майстер-клас з виготовлення українських великодніх писанок де справжнє яйце перетвориться на витвір мистецтва! Художниця-писанкарка Лариса Чебіняк допоможе вам створити власні шедеври\, використовуючи традиційні візерунки та методи. Захід відкритий для всіх рівнів майстерності (від 11 років). Участь у заході включає всі матеріали та напої. Будь ласка\, приходьте за 15 хвилин до початку. Попередня реєстрація обов’язкова\, оскільки кількість місць обмежена.
URL:https://samopomich.org/event/pysanky-with-larysanky/
LOCATION:2 E 79th St\, New York\, NY 10075\, 2 E 79th St\, New York\, NY 10075
CATEGORIES:Календар подій,Культура та мистецтво,Освіта,Спадшина
ATTACH;FMTTYPE=image/png:https://samopomich.org/wp-content/uploads/2026/03/2025.03.15-Pysanky-webpage.png
END:VEVENT
BEGIN:VEVENT
DTSTART;TZID=America/New_York:20260321T200000
DTEND;TZID=America/New_York:20260321T200000
DTSTAMP:20260425T123209
CREATED:20260312T181110Z
LAST-MODIFIED:20260312T181511Z
UID:1074-1774123200-1774123200@samopomich.org
SUMMARY:AFTER DARK at The Ukrainian Museum
DESCRIPTION:AFTER DARK пропонує вам KOLO\, динамічну серію заходів для молодих членів нашої спільноти\, що пропонує простір для спілкування через мистецтво\, культуру та вино. KOLO (українською мовою «коло»\, як у колі друзів) виховує наступне покоління художників та мислителів. Ці заходи дають молодим ентузіастам мистецтва простір як для взаємодії з українською культурою\, так і для побудови міцних стосунків з художниками\, любителями мистецтва\, сусідами з East Village\, громадою\, та їхніми однолітками.
URL:https://samopomich.org/event/after-dark-at-the-ukrainian-museum/
LOCATION:222 East 6th Street New York\, New York 10003\, 222 East 6th Street New York\, New York 10003
CATEGORIES:Календар подій,Культура та мистецтво,Освіта,Спадшина
ATTACH;FMTTYPE=image/png:https://samopomich.org/wp-content/uploads/2026/03/After-Dark-Banner-with-Logos.1000.png
END:VEVENT
BEGIN:VEVENT
DTSTART;TZID=America/New_York:20260322T140000
DTEND;TZID=America/New_York:20260322T140000
DTSTAMP:20260425T123209
CREATED:20260318T170825Z
LAST-MODIFIED:20260318T170825Z
UID:1148-1774188000-1774188000@samopomich.org
SUMMARY:Титани української культури: Тарас Шевченко та Микола Лисенко
DESCRIPTION:🎶✍🏻 Запрошуємо на культурну подію “Титани української культури: Тарас Шевченко та Микола Лисенко”\, присвячену двом видатним постатям української історії та мистецтва \n📅 22 березня\n🕑 14:00\n📍 203 2nd Avenue\, 4-й поверх\, New York\, NY 10003 \nНа гостей чекає тепла й натхненна програма:\n• урочисте відкриття\n• виступ музичного театру Першого відділу СУА\n• спеціальний гість — жіноча хорова капела СУА\, округи Нью-Йорк\n• святковий ярмарок\n• майстер-клас\n• частування\n• лотерея\n🎟 Вхідний квиток- $25 (у вартість входить 1 лотерейний купон) Оплата при вході або на PayPal branch1@unwla.org\n🇺🇦 50% зібраних коштів на події буде передано на закупівлю засобів тактичної медицини для України\nПриходьте разом відзначити українську культуру\, музику та поезію\, а також підтримати важливу справу допомоги Україні💛💙\n_____________________________________________________\n🎶✍🏻 We invite you to a cultural event\, “Titans of Ukrainian Culture: Taras Shevchenko and Mykola Lysenko\,” dedicated to two outstanding figures of Ukrainian history and art\n📅 March 22\n🕑 2:00 PM \n📍 203 2nd Avenue\, 4th Floor\, New York City\, NY 10003\nGuests will enjoy a warm and inspiring program:\n• opening ceremony\n• performance by the Musical Theater of UNWLA Honorary Branch 1\n• special guest — Women’s Choral Capella of the UNWLA NYC Regional Council\n• festive fair\n• workshop & lottery\n• refreshments \n🎟 Admission: $25 (includes one raffle ticket) Payment at the entrance or via PayPal: branch1@unwla.org\n🇺🇦 50% of the funds raised during the event will be donated to purchase tactical medical supplies for Ukraine.\nJoin us to celebrate Ukrainian culture\, music\, and poetry while supporting an important cause for Ukraine 💛💙
URL:https://samopomich.org/event/%d1%82%d0%b8%d1%82%d0%b0%d0%bd%d0%b8-%d1%83%d0%ba%d1%80%d0%b0%d1%97%d0%bd%d1%81%d1%8c%d0%ba%d0%be%d1%97-%d0%ba%d1%83%d0%bb%d1%8c%d1%82%d1%83%d1%80%d0%b8-%d1%82%d0%b0%d1%80%d0%b0%d1%81-%d1%88%d0%b5/
LOCATION:203 2nd Ave Fl 5\, New York\, NY\, United States\, New York 10003\, 203 2nd Ave Fl 5\, New York\, NY\, United States\, New York 10003
CATEGORIES:Календар подій,Культура та мистецтво,Спадшина
ATTACH;FMTTYPE=image/jpeg:https://samopomich.org/wp-content/uploads/2026/03/651600714_909428808501872_8690959500070657957_n.jpg
END:VEVENT
END:VCALENDAR